BEGIN:VCALENDAR
VERSION:2.0
PRODID:-//https://www.fw-mw.ch//NONSGML kigkonsult.se iCalcreator 2.29.29//
CALSCALE:GREGORIAN
METHOD:PUBLISH
UID:2daf4476-9ea6-45bc-aa5e-f43af86e0eb7
X-WR-CALNAME:JCal Pro Kalender
X-WR-CALDESC:Ihr Online-Terminkalender
X-WR-TIMEZONE:Europe/Zurich
BEGIN:VTIMEZONE
TZID:Europe/Zurich
BEGIN:STANDARD
TZNAME:CET
DTSTART:20251026T030000
TZOFFSETFROM:+0200
TZOFFSETTO:+0100
RDATE:20261025T030000
END:STANDARD
BEGIN:DAYLIGHT
TZNAME:CEST
DTSTART:20260329T020000
TZOFFSETFROM:+0100
TZOFFSETTO:+0200
RDATE:20270328T020000
END:DAYLIGHT
END:VTIMEZONE
BEGIN:VEVENT
UID:20251110T000000CET-7464wnt5cr@https://fw-mw.ch/
DTSTAMP:20260424T095520Z
CATEGORIES:Veranstaltungen / Diverses
DTSTART;TZID=Europe/Zurich:20261026T194500
DTEND;TZID=Europe/Zurich:20261026T214500
SUMMARY:Austretende
URL:https://www.fw-mw.ch/uebungen/jahresprogramm-202/179-veranstaltungen-di
 verses/759-austretende
END:VEVENT
END:VCALENDAR
