BEGIN:VCALENDAR
VERSION:2.0
PRODID:-//https://www.fw-mw.ch//NONSGML kigkonsult.se iCalcreator 2.29.29//
CALSCALE:GREGORIAN
METHOD:PUBLISH
UID:6832f1c6-8949-42c0-adc7-ed04b568752c
X-WR-CALNAME:JCal Pro Kalender
X-WR-CALDESC:Ihr Online-Terminkalender
X-WR-TIMEZONE:Europe/Zurich
BEGIN:VTIMEZONE
TZID:Europe/Zurich
BEGIN:STANDARD
TZNAME:CET
DTSTART:20251026T030000
TZOFFSETFROM:+0200
TZOFFSETTO:+0100
RDATE:20261025T030000
END:STANDARD
BEGIN:DAYLIGHT
TZNAME:CEST
DTSTART:20260329T020000
TZOFFSETFROM:+0100
TZOFFSETTO:+0200
RDATE:20270328T020000
END:DAYLIGHT
END:VTIMEZONE
BEGIN:VEVENT
UID:20260601T194500CEST-6126KTlIIB@https://fw-mw.ch/
DTSTAMP:20260422T103331Z
CATEGORIES:Notfalltreffpunkte
DTSTART;TZID=Europe/Zurich:20260601T194500
DTEND;TZID=Europe/Zurich:20260601T214500
SUMMARY:Notfalltreffpunkte
URL:https://www.fw-mw.ch/uebungen/jahresprogramm-202/182-notfalltreffpunkte
 /704-notfalltreffpunkte
END:VEVENT
BEGIN:VEVENT
UID:20260601T194500CEST-9378XWOorA@https://fw-mw.ch/
DTSTAMP:20260422T103331Z
CATEGORIES:Notfalltreffpunkte
DTSTART;TZID=Europe/Zurich:20260831T194500
DTEND;TZID=Europe/Zurich:20260831T214500
SUMMARY:Notfalltreffpunkte
URL:https://www.fw-mw.ch/uebungen/jahresprogramm-202/182-notfalltreffpunkte
 /734-notfalltreffpunkte
END:VEVENT
BEGIN:VEVENT
UID:20260831T194500CEST-4486EeERHp@https://fw-mw.ch/
DTSTAMP:20260422T103331Z
CATEGORIES:Notfalltreffpunkte
DTSTART;TZID=Europe/Zurich:20261109T194500
DTEND;TZID=Europe/Zurich:20261109T214500
SUMMARY:Notfalltreffpunkte
URL:https://www.fw-mw.ch/uebungen/jahresprogramm-202/182-notfalltreffpunkte
 /766-notfalltreffpunkte
END:VEVENT
END:VCALENDAR
