BEGIN:VCALENDAR
VERSION:2.0
PRODID:-//https://www.fw-mw.ch//NONSGML kigkonsult.se iCalcreator 2.29.29//
CALSCALE:GREGORIAN
METHOD:PUBLISH
UID:8e3d96eb-85ee-4151-9ff3-f0a6457e0582
X-WR-CALNAME:JCal Pro Kalender
X-WR-CALDESC:Ihr Online-Terminkalender
X-WR-TIMEZONE:Europe/Zurich
BEGIN:VTIMEZONE
TZID:Europe/Zurich
BEGIN:STANDARD
TZNAME:CET
DTSTART:20251026T030000
TZOFFSETFROM:+0200
TZOFFSETTO:+0100
RDATE:20261025T030000
END:STANDARD
BEGIN:DAYLIGHT
TZNAME:CEST
DTSTART:20260329T020000
TZOFFSETFROM:+0100
TZOFFSETTO:+0200
RDATE:20270328T020000
END:DAYLIGHT
END:VTIMEZONE
BEGIN:VEVENT
UID:20260326T190000CET-15620c5AHn@https://fw-mw.ch/
DTSTAMP:20260421T151354Z
CATEGORIES:Kommando
DTSTART;TZID=Europe/Zurich:20260326T190000
DTEND;TZID=Europe/Zurich:20260326T210000
SUMMARY:Vorinspektion
URL:https://www.fw-mw.ch/uebungen/jahresprogramm-202/176-kommando/774-vorin
 spektion
END:VEVENT
BEGIN:VEVENT
UID:20260219T194500CET-3225UvcAHn@https://fw-mw.ch/
DTSTAMP:20260421T151354Z
CATEGORIES:Fahrtraining Gruppe 3
DTSTART;TZID=Europe/Zurich:20260326T194500
DTEND;TZID=Europe/Zurich:20260326T214500
SUMMARY:Fahrtraining Gruppe 3
URL:https://www.fw-mw.ch/uebungen/jahresprogramm-202/173-fahrtraining-grupp
 e-3/677-fahrtraining-gruppe-3
END:VEVENT
END:VCALENDAR
