BEGIN:VCALENDAR
VERSION:2.0
PRODID:-//https://www.fw-mw.ch//NONSGML kigkonsult.se iCalcreator 2.29.29//
CALSCALE:GREGORIAN
METHOD:PUBLISH
UID:8c6d194f-d8a8-40e8-a644-51c655723a03
X-WR-CALNAME:JCal Pro Kalender
X-WR-CALDESC:Ihr Online-Terminkalender
X-WR-TIMEZONE:Europe/Zurich
BEGIN:VTIMEZONE
TZID:Europe/Zurich
BEGIN:STANDARD
TZNAME:CET
DTSTART:20251026T030000
TZOFFSETFROM:+0200
TZOFFSETTO:+0100
RDATE:20261025T030000
END:STANDARD
BEGIN:DAYLIGHT
TZNAME:CEST
DTSTART:20260329T020000
TZOFFSETFROM:+0100
TZOFFSETTO:+0200
RDATE:20270328T020000
END:DAYLIGHT
END:VTIMEZONE
BEGIN:VEVENT
UID:20250125T000000CET-766277846V@https://fw-mw.ch/
DTSTAMP:20260423T111837Z
CATEGORIES:Schulferien/Feiertage
DTSTART;TZID=Europe/Zurich:20260124T000000
DTEND;TZID=Europe/Zurich:20260208T235900
SUMMARY:Sportferien
URL:https://www.fw-mw.ch/uebungen/jahresprogramm-202/184-schulferien/654-sp
 ortferien
END:VEVENT
BEGIN:VEVENT
UID:20260223T193000CET-2996ZoVvSH@https://fw-mw.ch/
DTSTAMP:20260423T111837Z
CATEGORIES:Veranstaltungen / Diverses
DTSTART;TZID=Europe/Zurich:20260209T193000
DTEND;TZID=Europe/Zurich:20260209T213000
SUMMARY:ERFA Lodur
URL:https://www.fw-mw.ch/uebungen/jahresprogramm-202/179-veranstaltungen-di
 verses/665-erfa-lodur
END:VEVENT
BEGIN:VEVENT
UID:20250210T194500CET-6822Pur5cG@https://fw-mw.ch/
DTSTAMP:20260423T111837Z
CATEGORIES:Verkehr
DESCRIPTION:<p>Thema/Dienst: Verkehr <br />Übungsstoff: Materialkenntnis / 
 Verkehrszeichengabe <br />Verantwortlich: Wm Speck Patrick <br />Aufgebot:
  Verkehrsabteilung</p>
DTSTART;TZID=Europe/Zurich:20260209T194500
DTEND;TZID=Europe/Zurich:20260209T214500
SUMMARY:Verkehr
URL:https://www.fw-mw.ch/uebungen/jahresprogramm-202/166-verkehr/655-verkeh
 r
X-ALT-DESC;FMTTYPE=TEXT/HTML:<p>Thema/Dienst: Verkehr <br />Übungsstoff: Ma
 terialkenntnis / Verkehrszeichengabe <br />Verantwortlich: Wm Speck Patric
 k <br />Aufgebot: Verkehrsabteilung</p>
END:VEVENT
BEGIN:VEVENT
UID:20250210T194500CET-9667v36dnP@https://fw-mw.ch/
DTSTAMP:20260423T111837Z
CATEGORIES:Sanität
DESCRIPTION:<p>Thema/Dienst: Sanität <br />Übungsstoff: Einsatzübung mit Au
 torettung <br />Verantwortlich: Wm Bossard Jessica\, Gfr Senn Petra <br />
 Aufgebot: Stabsabteilung\, Sanitätsabteilung</p>
DTSTART;TZID=Europe/Zurich:20260209T194500
DTEND;TZID=Europe/Zurich:20260209T214500
SUMMARY:Sanität
URL:https://www.fw-mw.ch/uebungen/jahresprogramm-202/168-sanitaet/656-sanit
 aet
X-ALT-DESC;FMTTYPE=TEXT/HTML:<p>Thema/Dienst: Sanität <br />Übungsstoff: Ei
 nsatzübung mit Autorettung <br />Verantwortlich: Wm Bossard Jessica\, Gfr 
 Senn Petra <br />Aufgebot: Stabsabteilung\, Sanitätsabteilung</p>
END:VEVENT
BEGIN:VEVENT
UID:20250210T194500CET-7771WZPVrV@https://fw-mw.ch/
DTSTAMP:20260423T111837Z
CATEGORIES:Elektriker
DTSTART;TZID=Europe/Zurich:20260209T194500
DTEND;TZID=Europe/Zurich:20260209T214500
SUMMARY:Elektriker
URL:https://www.fw-mw.ch/uebungen/jahresprogramm-202/169-elektriker/657-ele
 ktriker
END:VEVENT
BEGIN:VEVENT
UID:20250123T194500CET-8847PVVmWx@https://fw-mw.ch/
DTSTAMP:20260423T111837Z
CATEGORIES:Fahrtraining Gruppe 2
DTSTART;TZID=Europe/Zurich:20260212T194500
DTEND;TZID=Europe/Zurich:20260212T214500
SUMMARY:Fahrtraining Gruppe 2
URL:https://www.fw-mw.ch/uebungen/jahresprogramm-202/172-fahrtraining-grupp
 e-2/658-fahrtraining-gruppe-2
END:VEVENT
BEGIN:VEVENT
UID:20250116T194500CET-7932WIu68o@https://fw-mw.ch/
DTSTAMP:20260423T111837Z
CATEGORIES:Fahrtraining Verkehr Gruppe 1
DESCRIPTION:<p>Thema/Dienst: Fahrtraining Verkehr Gruppe 1 <br />Übungsstof
 f: Fahrzeugkenntnisse / Einsatzpläne <br />Verantwortlich: Wm Speck Patric
 k <br />Aufgebot: Fahrschule Verkehr Gruppe 1</p>
DTSTART;TZID=Europe/Zurich:20260212T194500
DTEND;TZID=Europe/Zurich:20260212T214500
SUMMARY:Fahrtraining Verkehr Gruppe 1
URL:https://www.fw-mw.ch/uebungen/jahresprogramm-202/174-fahrtraining-verke
 hr-gruppe-1/659-fahrtraining-verkehr-gruppe-1
X-ALT-DESC;FMTTYPE=TEXT/HTML:<p>Thema/Dienst: Fahrtraining Verkehr Gruppe 1
  <br />Übungsstoff: Fahrzeugkenntnisse / Einsatzpläne <br />Verantwortlich
 : Wm Speck Patrick <br />Aufgebot: Fahrschule Verkehr Gruppe 1</p>
END:VEVENT
BEGIN:VEVENT
UID:20250224T194500CET-8098Vsds8E@https://fw-mw.ch/
DTSTAMP:20260423T111837Z
CATEGORIES:Zug 1
DTSTART;TZID=Europe/Zurich:20260216T194500
DTEND;TZID=Europe/Zurich:20260216T214500
SUMMARY:Zug 1
URL:https://www.fw-mw.ch/uebungen/jahresprogramm-202/161-zug-1/660-zug-1-2
END:VEVENT
BEGIN:VEVENT
UID:20260108T194500CET-0569T5o8up@https://fw-mw.ch/
DTSTAMP:20260423T111837Z
CATEGORIES:Kommando
DESCRIPTION:<p>Thema/Dienst: Kommandositzung <br />Verantwortlich: Hptm Fuc
 hs Reto <br />Aufgebot: Kommando</p>
DTSTART;TZID=Europe/Zurich:20260216T194500
DTEND;TZID=Europe/Zurich:20260216T214500
SUMMARY:Kommandositzung
URL:https://www.fw-mw.ch/uebungen/jahresprogramm-202/176-kommando/661-komma
 ndositzung
X-ALT-DESC;FMTTYPE=TEXT/HTML:<p>Thema/Dienst: Kommandositzung <br />Verantw
 ortlich: Hptm Fuchs Reto <br />Aufgebot: Kommando</p>
END:VEVENT
BEGIN:VEVENT
UID:20250213T194500CET-0215TZvRx8@https://fw-mw.ch/
DTSTAMP:20260423T111837Z
CATEGORIES:Fahrtraining Gruppe 3
DTSTART;TZID=Europe/Zurich:20260219T194500
DTEND;TZID=Europe/Zurich:20260219T214500
SUMMARY:Fahrtraining Gruppe 3
URL:https://www.fw-mw.ch/uebungen/jahresprogramm-202/173-fahrtraining-grupp
 e-3/662-fahrtraining-gruppe-3
END:VEVENT
BEGIN:VEVENT
UID:20250123T194500CET-4280i3nU1z@https://fw-mw.ch/
DTSTAMP:20260423T111837Z
CATEGORIES:Fahrtraining Verkehr Gruppe 2
DTSTART;TZID=Europe/Zurich:20260219T194500
DTEND;TZID=Europe/Zurich:20260219T214500
SUMMARY:Fahrtraining Verkehr Gruppe 2
URL:https://www.fw-mw.ch/uebungen/jahresprogramm-202/175-fahrtraining-verke
 hr-gruppe-2/663-fahrtraining-verkehr-gruppe-2
END:VEVENT
BEGIN:VEVENT
UID:20250120T194500CET-0940RfnvlE@https://fw-mw.ch/
DTSTAMP:20260423T111837Z
CATEGORIES:Maschinisten
DTSTART;TZID=Europe/Zurich:20260223T194500
DTEND;TZID=Europe/Zurich:20260223T214500
SUMMARY:Maschinisten
URL:https://www.fw-mw.ch/uebungen/jahresprogramm-202/167-maschinisten/664-m
 aschinisten
END:VEVENT
BEGIN:VEVENT
UID:20260122T194500CET-0517sDgxZc@https://fw-mw.ch/
DTSTAMP:20260423T111837Z
CATEGORIES:Fahrtraining Gruppe 1
DTSTART;TZID=Europe/Zurich:20260226T194500
DTEND;TZID=Europe/Zurich:20260226T214500
SUMMARY:Fahrtraining Gruppe 1
URL:https://www.fw-mw.ch/uebungen/jahresprogramm-202/171-fahrtraining-grupp
 e-1/666-fahrtraining-gruppe-1
END:VEVENT
END:VCALENDAR
