BEGIN:VCALENDAR
VERSION:2.0
PRODID:-//https://www.fw-mw.ch//NONSGML kigkonsult.se iCalcreator 2.29.29//
CALSCALE:GREGORIAN
METHOD:PUBLISH
UID:1d4b6808-1bfe-497f-99ef-342aa0911931
X-WR-CALNAME:JCal Pro Kalender
X-WR-CALDESC:Ihr Online-Terminkalender
X-WR-TIMEZONE:Europe/Zurich
BEGIN:VTIMEZONE
TZID:Europe/Zurich
BEGIN:STANDARD
TZNAME:CET
DTSTART:20251026T030000
TZOFFSETFROM:+0200
TZOFFSETTO:+0100
RDATE:20261025T030000
END:STANDARD
BEGIN:DAYLIGHT
TZNAME:CEST
DTSTART:20260329T020000
TZOFFSETFROM:+0100
TZOFFSETTO:+0200
RDATE:20270328T020000
END:DAYLIGHT
END:VTIMEZONE
BEGIN:VEVENT
UID:20260112T191500CET-3027POfCtu@https://fw-mw.ch/
DTSTAMP:20260423T100452Z
CATEGORIES:Atemschutz
DTSTART;TZID=Europe/Zurich:20260302T191500
DTEND;TZID=Europe/Zurich:20260302T214500
SUMMARY:Atemschutz
URL:https://www.fw-mw.ch/uebungen/jahresprogramm-202/165-atemschutz/667-ate
 mschutz
END:VEVENT
BEGIN:VEVENT
UID:20250304T190000CET-4885M2ItLN@https://fw-mw.ch/
DTSTAMP:20260423T100452Z
CATEGORIES:Kommission
DTSTART;TZID=Europe/Zurich:20260303T190000
DTEND;TZID=Europe/Zurich:20260303T210000
SUMMARY:Kommissionssitzung
URL:https://www.fw-mw.ch/uebungen/jahresprogramm-202/186-kommission/668-kom
 missionssitzung
END:VEVENT
BEGIN:VEVENT
UID:20260212T194500CET-01600NnTrn@https://fw-mw.ch/
DTSTAMP:20260423T100452Z
CATEGORIES:Fahrtraining Gruppe 2
DTSTART;TZID=Europe/Zurich:20260305T194500
DTEND;TZID=Europe/Zurich:20260305T214500
SUMMARY:Fahrtraining Gruppe 2
URL:https://www.fw-mw.ch/uebungen/jahresprogramm-202/172-fahrtraining-grupp
 e-2/669-fahrtraining-gruppe-2
END:VEVENT
BEGIN:VEVENT
UID:20250215T070000CET-0539u04IOW@https://fw-mw.ch/
DTSTAMP:20260423T100452Z
CATEGORIES:Holzergruppe
DESCRIPTION:<p>Thema/Dienst: Holzergruppe <br />Übungsstoff: Ausbildung <br
  />Verantwortlich: Sdt Kaspar Michael <br />Aufgebot: Holzergruppe</p>
DTSTART;TZID=Europe/Zurich:20260307T070000
DTEND;TZID=Europe/Zurich:20260307T120000
SUMMARY:Holzergruppe
URL:https://www.fw-mw.ch/uebungen/jahresprogramm-202/183-holzergruppe/670-h
 olzergruppe
X-ALT-DESC;FMTTYPE=TEXT/HTML:<p>Thema/Dienst: Holzergruppe <br />Übungsstof
 f: Ausbildung <br />Verantwortlich: Sdt Kaspar Michael <br />Aufgebot: Hol
 zergruppe</p>
END:VEVENT
BEGIN:VEVENT
UID:20250303T194500CET-8565AnLdui@https://fw-mw.ch/
DTSTAMP:20260423T100452Z
CATEGORIES:Zug 2
DESCRIPTION:<p>Thema/Dienst: Zug 2 <br />Übungsstoff: Seilzugapparat\, Stoc
 kwinde &amp\; Hubzylinder mit Unterbauen und Beleuchtung <br />Verantwortl
 ich: Lt Hochuli Cynthia <br />Aufgebot: Stabsabteilung Zug 2\, Zug 2</p>
DTSTART;TZID=Europe/Zurich:20260309T194500
DTEND;TZID=Europe/Zurich:20260309T214500
SUMMARY:Zug 2
URL:https://www.fw-mw.ch/uebungen/jahresprogramm-202/162-zug-2/671-zug-2
X-ALT-DESC;FMTTYPE=TEXT/HTML:<p>Thema/Dienst: Zug 2 <br />Übungsstoff: Seil
 zugapparat\, Stockwinde &amp\; Hubzylinder mit Unterbauen und Beleuchtung 
 <br />Verantwortlich: Lt Hochuli Cynthia <br />Aufgebot: Stabsabteilung Zu
 g 2\, Zug 2</p>
END:VEVENT
BEGIN:VEVENT
UID:20250403T194500CEST-9143uVcugC@https://fw-mw.ch/
DTSTAMP:20260423T100452Z
CATEGORIES:Kader
DTSTART;TZID=Europe/Zurich:20260312T190000
DTEND;TZID=Europe/Zurich:20260312T210000
SUMMARY:Chefchargenrapport
URL:https://www.fw-mw.ch/uebungen/jahresprogramm-202/160-kader/672-chefchar
 genrapport
END:VEVENT
BEGIN:VEVENT
UID:20260223T194500CET-4119uJlVID@https://fw-mw.ch/
DTSTAMP:20260423T100452Z
CATEGORIES:Maschinisten
DTSTART;TZID=Europe/Zurich:20260316T194500
DTEND;TZID=Europe/Zurich:20260316T214500
SUMMARY:Maschinisten
URL:https://www.fw-mw.ch/uebungen/jahresprogramm-202/167-maschinisten/673-m
 aschinisten
END:VEVENT
BEGIN:VEVENT
UID:20260209T194500CET-2895pnuaAm@https://fw-mw.ch/
DTSTAMP:20260423T100452Z
CATEGORIES:Sanität
DTSTART;TZID=Europe/Zurich:20260316T194500
DTEND;TZID=Europe/Zurich:20260316T214500
SUMMARY:Sanität
URL:https://www.fw-mw.ch/uebungen/jahresprogramm-202/168-sanitaet/674-sanit
 aet
END:VEVENT
BEGIN:VEVENT
UID:20260115T194500CET-1908XrXmHF@https://fw-mw.ch/
DTSTAMP:20260423T100452Z
CATEGORIES:Chargierte
DESCRIPTION:<p>Vorbereiten 1. Zugsübung</p>
DTSTART;TZID=Europe/Zurich:20260319T194500
DTEND;TZID=Europe/Zurich:20260319T214500
SUMMARY:Chargierte
URL:https://www.fw-mw.ch/uebungen/jahresprogramm-202/164-chargierte/675-cha
 rgierte
X-ALT-DESC;FMTTYPE=TEXT/HTML:<p>Vorbereiten 1. Zugsübung</p>
END:VEVENT
BEGIN:VEVENT
UID:20250113T190000CET-0898mvJh5d@https://fw-mw.ch/
DTSTAMP:20260423T100452Z
CATEGORIES:Gesamte FW
DTSTART;TZID=Europe/Zurich:20260323T190000
DTEND;TZID=Europe/Zurich:20260323T214500
SUMMARY:Gesamte Feuerwehr
URL:https://www.fw-mw.ch/uebungen/jahresprogramm-202/159-gesamte-fw/676-ges
 amte-feuerwehr
END:VEVENT
BEGIN:VEVENT
UID:20250318T180000CET-49577ltdZj@https://fw-mw.ch/
DTSTAMP:20260423T100452Z
CATEGORIES:Veranstaltungen / Diverses
DESCRIPTION:<p>Thema/Dienst: Vorstandssitzung <br />Übungsstoff: gm. Trakta
 ndenliste <br />Verantwortlich: Hptm Fuchs Reto <br />Aufgebot: -</p>
DTSTART;TZID=Europe/Zurich:20260324T183000
DTEND;TZID=Europe/Zurich:20260324T193000
SUMMARY:Vorstandssitzung
URL:https://www.fw-mw.ch/uebungen/jahresprogramm-202/179-veranstaltungen-di
 verses/777-vorstandssitzung
X-ALT-DESC;FMTTYPE=TEXT/HTML:<p>Thema/Dienst: Vorstandssitzung <br />Übungs
 stoff: gm. Traktandenliste <br />Verantwortlich: Hptm Fuchs Reto <br />Auf
 gebot: -</p>
END:VEVENT
BEGIN:VEVENT
UID:20260326T190000CET-15620c5AHn@https://fw-mw.ch/
DTSTAMP:20260423T100452Z
CATEGORIES:Kommando
DTSTART;TZID=Europe/Zurich:20260326T190000
DTEND;TZID=Europe/Zurich:20260326T210000
SUMMARY:Vorinspektion
URL:https://www.fw-mw.ch/uebungen/jahresprogramm-202/176-kommando/774-vorin
 spektion
END:VEVENT
BEGIN:VEVENT
UID:20260219T194500CET-3225UvcAHn@https://fw-mw.ch/
DTSTAMP:20260423T100452Z
CATEGORIES:Fahrtraining Gruppe 3
DTSTART;TZID=Europe/Zurich:20260326T194500
DTEND;TZID=Europe/Zurich:20260326T214500
SUMMARY:Fahrtraining Gruppe 3
URL:https://www.fw-mw.ch/uebungen/jahresprogramm-202/173-fahrtraining-grupp
 e-3/677-fahrtraining-gruppe-3
END:VEVENT
BEGIN:VEVENT
UID:20260302T191500CET-7355eiSlsu@https://fw-mw.ch/
DTSTAMP:20260423T100452Z
CATEGORIES:Atemschutz
DTSTART;TZID=Europe/Zurich:20260328T070000
DTEND;TZID=Europe/Zurich:20260328T120000
SUMMARY:Atemschutz IFA
URL:https://www.fw-mw.ch/uebungen/jahresprogramm-202/165-atemschutz/678-ate
 mschutz-ifa
END:VEVENT
BEGIN:VEVENT
UID:20260209T194500CET-76861Tpusg@https://fw-mw.ch/
DTSTAMP:20260423T100452Z
CATEGORIES:Elektriker
DTSTART;TZID=Europe/Zurich:20260330T194500
DTEND;TZID=Europe/Zurich:20260330T214500
SUMMARY:Elektriker
URL:https://www.fw-mw.ch/uebungen/jahresprogramm-202/169-elektriker/679-ele
 ktriker-2
END:VEVENT
BEGIN:VEVENT
UID:20260216T194500CET-02525RJTK5@https://fw-mw.ch/
DTSTAMP:20260423T100452Z
CATEGORIES:Kommando
DTSTART;TZID=Europe/Zurich:20260330T194500
DTEND;TZID=Europe/Zurich:20260330T214500
SUMMARY:Kommandositzung
URL:https://www.fw-mw.ch/uebungen/jahresprogramm-202/176-kommando/680-komma
 ndositzung
END:VEVENT
END:VCALENDAR
