BEGIN:VCALENDAR
VERSION:2.0
PRODID:-//https://www.fw-mw.ch//NONSGML kigkonsult.se iCalcreator 2.29.29//
CALSCALE:GREGORIAN
METHOD:PUBLISH
UID:e9696d12-3c22-4194-b5c2-e7f9fe490d87
X-WR-CALNAME:JCal Pro Kalender
X-WR-CALDESC:Ihr Online-Terminkalender
X-WR-TIMEZONE:Europe/Zurich
BEGIN:VTIMEZONE
TZID:Europe/Zurich
BEGIN:STANDARD
TZNAME:CET
DTSTART:20251026T030000
TZOFFSETFROM:+0200
TZOFFSETTO:+0100
RDATE:20261025T030000
END:STANDARD
BEGIN:DAYLIGHT
TZNAME:CEST
DTSTART:20260329T020000
TZOFFSETFROM:+0100
TZOFFSETTO:+0200
RDATE:20270328T020000
END:DAYLIGHT
END:VTIMEZONE
BEGIN:VEVENT
UID:20260401T180000CEST-7485uiWs2V@https://fw-mw.ch/
DTSTAMP:20260419T165936Z
CATEGORIES:Veranstaltungen / Diverses
DTSTART;TZID=Europe/Zurich:20260401T180000
DTEND;TZID=Europe/Zurich:20260401T190000
SUMMARY:Abgabe Budget
URL:https://www.fw-mw.ch/uebungen/jahresprogramm-202/179-veranstaltungen-di
 verses/681-abgabe-budget
END:VEVENT
BEGIN:VEVENT
UID:20260124T000000CET-4272dxFpMv@https://fw-mw.ch/
DTSTAMP:20260419T165936Z
CATEGORIES:Schulferien/Feiertage
DTSTART;TZID=Europe/Zurich:20260403T000000
DTEND;TZID=Europe/Zurich:20260419T235900
SUMMARY:Frühlingsferien
URL:https://www.fw-mw.ch/uebungen/jahresprogramm-202/184-schulferien/682-fr
 uehlingsferien
END:VEVENT
BEGIN:VEVENT
UID:20260216T194500CET-3933vJS19r@https://fw-mw.ch/
DTSTAMP:20260419T165936Z
CATEGORIES:Zug 1
DTSTART;TZID=Europe/Zurich:20260420T194500
DTEND;TZID=Europe/Zurich:20260420T214500
SUMMARY:Zug 1
URL:https://www.fw-mw.ch/uebungen/jahresprogramm-202/161-zug-1/683-zug-1
END:VEVENT
BEGIN:VEVENT
UID:20260421T191500CEST-5137jaazxV@https://fw-mw.ch/
DTSTAMP:20260419T165936Z
CATEGORIES:Absturzsicherung
DTSTART;TZID=Europe/Zurich:20260421T191500
DTEND;TZID=Europe/Zurich:20260421T214500
SUMMARY:Absturzsicherung
URL:https://www.fw-mw.ch/uebungen/jahresprogramm-202/170-absturzsicherung/6
 84-absturzsicherung
END:VEVENT
BEGIN:VEVENT
UID:20260312T190000CET-1428HIbIU1@https://fw-mw.ch/
DTSTAMP:20260419T165936Z
CATEGORIES:Kader
DTSTART;TZID=Europe/Zurich:20260423T190000
DTEND;TZID=Europe/Zurich:20260423T210000
SUMMARY:Chefchargenrapport
URL:https://www.fw-mw.ch/uebungen/jahresprogramm-202/160-kader/685-chefchar
 genrapport
END:VEVENT
BEGIN:VEVENT
UID:20260309T194500CET-30530CURxV@https://fw-mw.ch/
DTSTAMP:20260419T165936Z
CATEGORIES:Zug 2
DTSTART;TZID=Europe/Zurich:20260427T194500
DTEND;TZID=Europe/Zurich:20260427T214500
SUMMARY:Zug 2
URL:https://www.fw-mw.ch/uebungen/jahresprogramm-202/162-zug-2/686-zug-2
END:VEVENT
BEGIN:VEVENT
UID:20260209T194500CET-6355BJjVt3@https://fw-mw.ch/
DTSTAMP:20260419T165936Z
CATEGORIES:Verkehr
DTSTART;TZID=Europe/Zurich:20260427T194500
DTEND;TZID=Europe/Zurich:20260427T214500
SUMMARY:Verkehr
URL:https://www.fw-mw.ch/uebungen/jahresprogramm-202/166-verkehr/687-verkeh
 r
END:VEVENT
BEGIN:VEVENT
UID:20260330T194500CEST-4218nmVmz2@https://fw-mw.ch/
DTSTAMP:20260419T165936Z
CATEGORIES:Kommando
DTSTART;TZID=Europe/Zurich:20260428T194500
DTEND;TZID=Europe/Zurich:20260428T214500
SUMMARY:Kommandositzung
URL:https://www.fw-mw.ch/uebungen/jahresprogramm-202/176-kommando/688-komma
 ndositzung
END:VEVENT
BEGIN:VEVENT
UID:20260319T194500CET-7472R5SsjR@https://fw-mw.ch/
DTSTAMP:20260419T165936Z
CATEGORIES:Chargierte
DESCRIPTION:<p>Vorbereiten 1. Zugsübung</p>
DTSTART;TZID=Europe/Zurich:20260430T194500
DTEND;TZID=Europe/Zurich:20260430T214500
SUMMARY:Chargierte
URL:https://www.fw-mw.ch/uebungen/jahresprogramm-202/164-chargierte/689-cha
 rgierte
X-ALT-DESC;FMTTYPE=TEXT/HTML:<p>Vorbereiten 1. Zugsübung</p>
END:VEVENT
END:VCALENDAR
