BEGIN:VCALENDAR
VERSION:2.0
PRODID:-//https://www.fw-mw.ch//NONSGML kigkonsult.se iCalcreator 2.29.29//
CALSCALE:GREGORIAN
METHOD:PUBLISH
UID:3a84f5f4-a25f-40dd-8692-51160e78693c
X-WR-CALNAME:JCal Pro Kalender
X-WR-CALDESC:Ihr Online-Terminkalender
X-WR-TIMEZONE:Europe/Zurich
BEGIN:VTIMEZONE
TZID:Europe/Zurich
BEGIN:STANDARD
TZNAME:CET
DTSTART:20251026T030000
TZOFFSETFROM:+0200
TZOFFSETTO:+0100
RDATE:20261025T030000
END:STANDARD
BEGIN:DAYLIGHT
TZNAME:CEST
DTSTART:20260329T020000
TZOFFSETFROM:+0100
TZOFFSETTO:+0200
RDATE:20270328T020000
END:DAYLIGHT
END:VTIMEZONE
BEGIN:VEVENT
UID:20260302T191500CET-5250vek0oP@https://fw-mw.ch/
DTSTAMP:20260419T183914Z
CATEGORIES:Atemschutz
DTSTART;TZID=Europe/Zurich:20260504T191500
DTEND;TZID=Europe/Zurich:20260504T214500
SUMMARY:Atemschutz
URL:https://www.fw-mw.ch/uebungen/jahresprogramm-202/165-atemschutz/690-ate
 mschutz
END:VEVENT
BEGIN:VEVENT
UID:20260303T190000CET-8270JpMjP3@https://fw-mw.ch/
DTSTAMP:20260419T183914Z
CATEGORIES:Kommission
DTSTART;TZID=Europe/Zurich:20260505T190000
DTEND;TZID=Europe/Zurich:20260505T210000
SUMMARY:Kommissionssitzung
URL:https://www.fw-mw.ch/uebungen/jahresprogramm-202/186-kommission/691-kom
 missionssitzung
END:VEVENT
BEGIN:VEVENT
UID:20260226T194500CET-8842BGPuG1@https://fw-mw.ch/
DTSTAMP:20260419T183914Z
CATEGORIES:Fahrtraining Gruppe 1
DTSTART;TZID=Europe/Zurich:20260507T194500
DTEND;TZID=Europe/Zurich:20260507T214500
SUMMARY:Fahrtraining Gruppe 1
URL:https://www.fw-mw.ch/uebungen/jahresprogramm-202/171-fahrtraining-grupp
 e-1/692-fahrtraining-gruppe-1
END:VEVENT
BEGIN:VEVENT
UID:20260509T090000CEST-2796hDGV9F@https://fw-mw.ch/
DTSTAMP:20260419T183914Z
CATEGORIES:Veranstaltungen / Diverses
DTSTART;TZID=Europe/Zurich:20260509T000000
DTEND;TZID=Europe/Zurich:20260509T235959
SUMMARY:Feuerwehrmarsch
URL:https://www.fw-mw.ch/uebungen/jahresprogramm-202/179-veranstaltungen-di
 verses/693-feuerwehrmarsch
END:VEVENT
BEGIN:VEVENT
UID:20260511T190000CEST-40502aswTK@https://fw-mw.ch/
DTSTAMP:20260419T183914Z
CATEGORIES:Gesamte FW
DTSTART;TZID=Europe/Zurich:20260511T190000
DTEND;TZID=Europe/Zurich:20260511T214500
SUMMARY:Gesamte Feuerwehr
URL:https://www.fw-mw.ch/uebungen/jahresprogramm-202/159-gesamte-fw/776-ges
 amte-feuerwehr
END:VEVENT
BEGIN:VEVENT
UID:20260514T090000CEST-9260u4kJKJ@https://fw-mw.ch/
DTSTAMP:20260419T183914Z
CATEGORIES:Schulferien/Feiertage
DTSTART;TZID=Europe/Zurich:20260514T000000
DTEND;TZID=Europe/Zurich:20260514T235959
SUMMARY:Auffahrt
URL:https://www.fw-mw.ch/uebungen/jahresprogramm-202/184-schulferien/695-au
 ffahrt
END:VEVENT
BEGIN:VEVENT
UID:20260518T194500CEST-0841uHvGUV@https://fw-mw.ch/
DTSTAMP:20260419T183914Z
CATEGORIES:Holzergruppe
DTSTART;TZID=Europe/Zurich:20260518T194500
DTEND;TZID=Europe/Zurich:20260518T214500
SUMMARY:Holzergruppe
URL:https://www.fw-mw.ch/uebungen/jahresprogramm-202/183-holzergruppe/696-h
 olzergruppe
END:VEVENT
BEGIN:VEVENT
UID:20260316T194500CET-471643lRv1@https://fw-mw.ch/
DTSTAMP:20260419T183914Z
CATEGORIES:Sanität
DTSTART;TZID=Europe/Zurich:20260518T194500
DTEND;TZID=Europe/Zurich:20260518T214500
SUMMARY:Sanität
URL:https://www.fw-mw.ch/uebungen/jahresprogramm-202/168-sanitaet/697-sanit
 aet
END:VEVENT
BEGIN:VEVENT
UID:20260305T194500CET-3045o9V5vB@https://fw-mw.ch/
DTSTAMP:20260419T183914Z
CATEGORIES:Fahrtraining Gruppe 2
DTSTART;TZID=Europe/Zurich:20260521T194500
DTEND;TZID=Europe/Zurich:20260521T214500
SUMMARY:Fahrtraining Gruppe 2
URL:https://www.fw-mw.ch/uebungen/jahresprogramm-202/172-fahrtraining-grupp
 e-2/698-fahrtraining-gruppe-2
END:VEVENT
BEGIN:VEVENT
UID:20260212T194500CET-2882BFDVEa@https://fw-mw.ch/
DTSTAMP:20260419T183914Z
CATEGORIES:Fahrtraining Verkehr Gruppe 1
DTSTART;TZID=Europe/Zurich:20260521T194500
DTEND;TZID=Europe/Zurich:20260521T214500
SUMMARY:Fahrtraining Verkehr Gruppe 1
URL:https://www.fw-mw.ch/uebungen/jahresprogramm-202/174-fahrtraining-verke
 hr-gruppe-1/699-fahrtraining-verkehr-gruppe-1
END:VEVENT
BEGIN:VEVENT
UID:20260525T090000CEST-3279RgUGEh@https://fw-mw.ch/
DTSTAMP:20260419T183914Z
CATEGORIES:Schulferien/Feiertage
DTSTART;TZID=Europe/Zurich:20260525T000000
DTEND;TZID=Europe/Zurich:20260525T235959
SUMMARY:Pfingstmontag
URL:https://www.fw-mw.ch/uebungen/jahresprogramm-202/184-schulferien/700-pf
 ingstmontag
END:VEVENT
BEGIN:VEVENT
UID:20260421T191500CEST-9995kaJKi3@https://fw-mw.ch/
DTSTAMP:20260419T183914Z
CATEGORIES:Absturzsicherung
DTSTART;TZID=Europe/Zurich:20260526T191500
DTEND;TZID=Europe/Zurich:20260526T214500
SUMMARY:Absturzsicherung
URL:https://www.fw-mw.ch/uebungen/jahresprogramm-202/170-absturzsicherung/7
 01-absturzsicherung
END:VEVENT
BEGIN:VEVENT
UID:20260326T194500CET-0340Nk78GV@https://fw-mw.ch/
DTSTAMP:20260419T183914Z
CATEGORIES:Fahrtraining Gruppe 3
DTSTART;TZID=Europe/Zurich:20260528T194500
DTEND;TZID=Europe/Zurich:20260528T214500
SUMMARY:Fahrtraining Gruppe 3
URL:https://www.fw-mw.ch/uebungen/jahresprogramm-202/173-fahrtraining-grupp
 e-3/702-fahrtraining-gruppe-3
END:VEVENT
BEGIN:VEVENT
UID:20260219T194500CET-1222bjmGgR@https://fw-mw.ch/
DTSTAMP:20260419T183914Z
CATEGORIES:Fahrtraining Verkehr Gruppe 2
DTSTART;TZID=Europe/Zurich:20260528T194500
DTEND;TZID=Europe/Zurich:20260528T214500
SUMMARY:Fahrtraining Verkehr Gruppe 2
URL:https://www.fw-mw.ch/uebungen/jahresprogramm-202/175-fahrtraining-verke
 hr-gruppe-2/703-fahrtraining-verkehr-gruppe-2
END:VEVENT
END:VCALENDAR
