BEGIN:VCALENDAR
VERSION:2.0
PRODID:-//https://www.fw-mw.ch//NONSGML kigkonsult.se iCalcreator 2.29.29//
CALSCALE:GREGORIAN
METHOD:PUBLISH
UID:10597e72-6690-465a-9924-e0d5b055ff69
X-WR-CALNAME:JCal Pro Kalender
X-WR-CALDESC:Ihr Online-Terminkalender
X-WR-TIMEZONE:Europe/Zurich
BEGIN:VTIMEZONE
TZID:Europe/Zurich
BEGIN:STANDARD
TZNAME:CET
DTSTART:20251026T030000
TZOFFSETFROM:+0200
TZOFFSETTO:+0100
RDATE:20261025T030000
END:STANDARD
BEGIN:DAYLIGHT
TZNAME:CEST
DTSTART:20260329T020000
TZOFFSETFROM:+0100
TZOFFSETTO:+0200
RDATE:20270328T020000
END:DAYLIGHT
END:VTIMEZONE
BEGIN:VEVENT
UID:20260601T194500CEST-6126KTlIIB@https://fw-mw.ch/
DTSTAMP:20260419T202234Z
CATEGORIES:Notfalltreffpunkte
DTSTART;TZID=Europe/Zurich:20260601T194500
DTEND;TZID=Europe/Zurich:20260601T214500
SUMMARY:Notfalltreffpunkte
URL:https://www.fw-mw.ch/uebungen/jahresprogramm-202/182-notfalltreffpunkte
 /704-notfalltreffpunkte
END:VEVENT
BEGIN:VEVENT
UID:20260605T000000CEST-27040xeRpG@https://fw-mw.ch/
DTSTAMP:20260419T202234Z
CATEGORIES:Veranstaltungen / Diverses
DTSTART;TZID=Europe/Zurich:20260605T000000
DTEND;TZID=Europe/Zurich:20260607T235900
SUMMARY:Jugendfest Unterkulm
URL:https://www.fw-mw.ch/uebungen/jahresprogramm-202/179-veranstaltungen-di
 verses/705-jugendfest-unterkulm
END:VEVENT
BEGIN:VEVENT
UID:20260518T194500CEST-84499S9K5u@https://fw-mw.ch/
DTSTAMP:20260419T202234Z
CATEGORIES:Sanität
DTSTART;TZID=Europe/Zurich:20260608T194500
DTEND;TZID=Europe/Zurich:20260608T214500
SUMMARY:Sanität
URL:https://www.fw-mw.ch/uebungen/jahresprogramm-202/168-sanitaet/706-sanit
 aet
END:VEVENT
BEGIN:VEVENT
UID:20260428T194500CEST-1502LtgnS9@https://fw-mw.ch/
DTSTAMP:20260419T202234Z
CATEGORIES:Kommando
DTSTART;TZID=Europe/Zurich:20260608T194500
DTEND;TZID=Europe/Zurich:20260608T214500
SUMMARY:Kommandositzung
URL:https://www.fw-mw.ch/uebungen/jahresprogramm-202/176-kommando/707-komma
 ndositzung
END:VEVENT
BEGIN:VEVENT
UID:20260324T183000CET-3727rDBAmJ@https://fw-mw.ch/
DTSTAMP:20260419T202234Z
CATEGORIES:Veranstaltungen / Diverses
DESCRIPTION:<p>Thema/Dienst: Vorstandssitzung <br />Übungsstoff: gm. Trakta
 ndenliste <br />Verantwortlich: Hptm Fuchs Reto <br />Aufgebot: -</p>
DTSTART;TZID=Europe/Zurich:20260609T183000
DTEND;TZID=Europe/Zurich:20260609T193000
SUMMARY:Vorstandssitzung
URL:https://www.fw-mw.ch/uebungen/jahresprogramm-202/179-veranstaltungen-di
 verses/778-vorstandssitzung-2
X-ALT-DESC;FMTTYPE=TEXT/HTML:<p>Thema/Dienst: Vorstandssitzung <br />Übungs
 stoff: gm. Traktandenliste <br />Verantwortlich: Hptm Fuchs Reto <br />Auf
 gebot: -</p>
END:VEVENT
BEGIN:VEVENT
UID:20260423T190000CEST-17948Ug7Vf@https://fw-mw.ch/
DTSTAMP:20260419T202234Z
CATEGORIES:Kader
DTSTART;TZID=Europe/Zurich:20260611T190000
DTEND;TZID=Europe/Zurich:20260611T210000
SUMMARY:Chefchargenrapport
URL:https://www.fw-mw.ch/uebungen/jahresprogramm-202/160-kader/708-chefchar
 genrapport
END:VEVENT
BEGIN:VEVENT
UID:20260316T194500CET-1626U9Bpkk@https://fw-mw.ch/
DTSTAMP:20260419T202234Z
CATEGORIES:Maschinisten
DTSTART;TZID=Europe/Zurich:20260615T194500
DTEND;TZID=Europe/Zurich:20260615T214500
SUMMARY:Maschinisten
URL:https://www.fw-mw.ch/uebungen/jahresprogramm-202/167-maschinisten/709-m
 aschinisten
END:VEVENT
BEGIN:VEVENT
UID:20260427T194500CEST-4576mBcC1v@https://fw-mw.ch/
DTSTAMP:20260419T202234Z
CATEGORIES:Verkehr
DTSTART;TZID=Europe/Zurich:20260615T194500
DTEND;TZID=Europe/Zurich:20260615T214500
SUMMARY:Verkehr
URL:https://www.fw-mw.ch/uebungen/jahresprogramm-202/166-verkehr/710-verkeh
 r
END:VEVENT
BEGIN:VEVENT
UID:20260430T194500CEST-0790aPt9Jl@https://fw-mw.ch/
DTSTAMP:20260419T202234Z
CATEGORIES:Chargierte
DESCRIPTION:<p>Vorbereiten 1. Zugsübung</p>
DTSTART;TZID=Europe/Zurich:20260618T194500
DTEND;TZID=Europe/Zurich:20260618T214500
SUMMARY:Chargierte
URL:https://www.fw-mw.ch/uebungen/jahresprogramm-202/164-chargierte/711-cha
 rgierte
X-ALT-DESC;FMTTYPE=TEXT/HTML:<p>Vorbereiten 1. Zugsübung</p>
END:VEVENT
BEGIN:VEVENT
UID:20260420T194500CEST-1983pavmNn@https://fw-mw.ch/
DTSTAMP:20260419T202234Z
CATEGORIES:Zug 1
DTSTART;TZID=Europe/Zurich:20260622T194500
DTEND;TZID=Europe/Zurich:20260622T214500
SUMMARY:Zug 1
URL:https://www.fw-mw.ch/uebungen/jahresprogramm-202/161-zug-1/713-zug-1
END:VEVENT
BEGIN:VEVENT
UID:20260622T194500CEST-54500eWJxv@https://fw-mw.ch/
DTSTAMP:20260419T202234Z
CATEGORIES:Zug 2
DTSTART;TZID=Europe/Zurich:20260622T194500
DTEND;TZID=Europe/Zurich:20260622T214500
SUMMARY:Zug 2
URL:https://www.fw-mw.ch/uebungen/jahresprogramm-202/162-zug-2/714-zug-2
END:VEVENT
BEGIN:VEVENT
UID:20260507T194500CEST-9452uSgWIv@https://fw-mw.ch/
DTSTAMP:20260419T202234Z
CATEGORIES:Fahrtraining Gruppe 1
DTSTART;TZID=Europe/Zurich:20260625T194500
DTEND;TZID=Europe/Zurich:20260625T214500
SUMMARY:Fahrtraining Gruppe 1
URL:https://www.fw-mw.ch/uebungen/jahresprogramm-202/171-fahrtraining-grupp
 e-1/715-fahrtraining-gruppe-1
END:VEVENT
BEGIN:VEVENT
UID:20260627T070000CEST-4196VRTX1T@https://fw-mw.ch/
DTSTAMP:20260419T202234Z
CATEGORIES:Absturzsicherung
DTSTART;TZID=Europe/Zurich:20260627T070000
DTEND;TZID=Europe/Zurich:20260627T120000
SUMMARY:Absturzsicherung
URL:https://www.fw-mw.ch/uebungen/jahresprogramm-202/170-absturzsicherung/7
 16-absturzsicherung
END:VEVENT
BEGIN:VEVENT
UID:20260504T191500CEST-7727dHuj9I@https://fw-mw.ch/
DTSTAMP:20260419T202234Z
CATEGORIES:Atemschutz
DTSTART;TZID=Europe/Zurich:20260629T191500
DTEND;TZID=Europe/Zurich:20260629T214500
SUMMARY:Atemschutz
URL:https://www.fw-mw.ch/uebungen/jahresprogramm-202/165-atemschutz/712-ate
 mschutz
END:VEVENT
BEGIN:VEVENT
UID:20260330T194500CEST-9655Nafsbp@https://fw-mw.ch/
DTSTAMP:20260419T202234Z
CATEGORIES:Elektriker
DTSTART;TZID=Europe/Zurich:20260629T194500
DTEND;TZID=Europe/Zurich:20260629T214500
SUMMARY:Elektriker
URL:https://www.fw-mw.ch/uebungen/jahresprogramm-202/169-elektriker/717-ele
 ktriker
END:VEVENT
END:VCALENDAR
