BEGIN:VCALENDAR
VERSION:2.0
PRODID:-//https://www.fw-mw.ch//NONSGML kigkonsult.se iCalcreator 2.29.29//
CALSCALE:GREGORIAN
METHOD:PUBLISH
UID:7d0b4ffe-1ae5-4927-bca1-a91d2f02577d
X-WR-CALNAME:JCal Pro Kalender
X-WR-CALDESC:Ihr Online-Terminkalender
X-WR-TIMEZONE:Europe/Zurich
BEGIN:VTIMEZONE
TZID:Europe/Zurich
BEGIN:STANDARD
TZNAME:CET
DTSTART:20251026T030000
TZOFFSETFROM:+0200
TZOFFSETTO:+0100
RDATE:20261025T030000
END:STANDARD
BEGIN:DAYLIGHT
TZNAME:CEST
DTSTART:20260329T020000
TZOFFSETFROM:+0100
TZOFFSETTO:+0200
RDATE:20270328T020000
END:DAYLIGHT
END:VTIMEZONE
BEGIN:VEVENT
UID:20260704T000000CEST-0423aZSAjS@https://fw-mw.ch/
DTSTAMP:20260423T084129Z
CATEGORIES:Veranstaltungen / Diverses
DTSTART;TZID=Europe/Zurich:20260704T000000
DTEND;TZID=Europe/Zurich:20260809T235900
SUMMARY:Sommerferien
URL:https://www.fw-mw.ch/uebungen/jahresprogramm-202/179-veranstaltungen-di
 verses/719-sommerferien
END:VEVENT
BEGIN:VEVENT
UID:20260615T194500CEST-3463R7crRI@https://fw-mw.ch/
DTSTAMP:20260423T084129Z
CATEGORIES:Verkehr
DTSTART;TZID=Europe/Zurich:20260810T194500
DTEND;TZID=Europe/Zurich:20260810T214500
SUMMARY:Verkehr
URL:https://www.fw-mw.ch/uebungen/jahresprogramm-202/166-verkehr/720-verkeh
 r
END:VEVENT
BEGIN:VEVENT
UID:20260608T194500CEST-4824XGbXuU@https://fw-mw.ch/
DTSTAMP:20260423T084129Z
CATEGORIES:Sanität
DTSTART;TZID=Europe/Zurich:20260810T194500
DTEND;TZID=Europe/Zurich:20260810T214500
SUMMARY:Sanität
URL:https://www.fw-mw.ch/uebungen/jahresprogramm-202/168-sanitaet/721-sanit
 aet
END:VEVENT
BEGIN:VEVENT
UID:20260629T194500CEST-2943iUe6JH@https://fw-mw.ch/
DTSTAMP:20260423T084129Z
CATEGORIES:Elektriker
DTSTART;TZID=Europe/Zurich:20260810T194500
DTEND;TZID=Europe/Zurich:20260810T214500
SUMMARY:Elektriker
URL:https://www.fw-mw.ch/uebungen/jahresprogramm-202/169-elektriker/722-ele
 ktriker
END:VEVENT
BEGIN:VEVENT
UID:20260702T194500CEST-7493Mhl0UR@https://fw-mw.ch/
DTSTAMP:20260423T084129Z
CATEGORIES:Chargierte
DESCRIPTION:<p>Vorbereiten 1. Zugsübung</p>
DTSTART;TZID=Europe/Zurich:20260813T194500
DTEND;TZID=Europe/Zurich:20260813T214500
SUMMARY:Chargierte
URL:https://www.fw-mw.ch/uebungen/jahresprogramm-202/164-chargierte/723-cha
 rgierte
X-ALT-DESC;FMTTYPE=TEXT/HTML:<p>Vorbereiten 1. Zugsübung</p>
END:VEVENT
BEGIN:VEVENT
UID:20260629T191500CEST-7691W4eTIn@https://fw-mw.ch/
DTSTAMP:20260423T084129Z
CATEGORIES:Atemschutz
DTSTART;TZID=Europe/Zurich:20260817T191500
DTEND;TZID=Europe/Zurich:20260817T214500
SUMMARY:Atemschutz
URL:https://www.fw-mw.ch/uebungen/jahresprogramm-202/165-atemschutz/724-ate
 mschutz
END:VEVENT
BEGIN:VEVENT
UID:20260608T194500CEST-2783vNB1Tc@https://fw-mw.ch/
DTSTAMP:20260423T084129Z
CATEGORIES:Kommando
DTSTART;TZID=Europe/Zurich:20260817T194500
DTEND;TZID=Europe/Zurich:20260817T214500
SUMMARY:Kommandositzung
URL:https://www.fw-mw.ch/uebungen/jahresprogramm-202/176-kommando/725-komma
 ndositzung
END:VEVENT
BEGIN:VEVENT
UID:20260627T070000CEST-6824Wt3m5g@https://fw-mw.ch/
DTSTAMP:20260423T084129Z
CATEGORIES:Absturzsicherung
DTSTART;TZID=Europe/Zurich:20260818T191500
DTEND;TZID=Europe/Zurich:20260818T214500
SUMMARY:Absturzsicherung
URL:https://www.fw-mw.ch/uebungen/jahresprogramm-202/170-absturzsicherung/7
 26-absturzsicherung
END:VEVENT
BEGIN:VEVENT
UID:20260521T194500CEST-11288PU4ZX@https://fw-mw.ch/
DTSTAMP:20260423T084129Z
CATEGORIES:Fahrtraining Gruppe 2
DTSTART;TZID=Europe/Zurich:20260820T194500
DTEND;TZID=Europe/Zurich:20260820T214500
SUMMARY:Fahrtraining Gruppe 2
URL:https://www.fw-mw.ch/uebungen/jahresprogramm-202/172-fahrtraining-grupp
 e-2/727-fahrtraining-gruppe-2
END:VEVENT
BEGIN:VEVENT
UID:20260521T194500CEST-5660nIKKEw@https://fw-mw.ch/
DTSTAMP:20260423T084129Z
CATEGORIES:Fahrtraining Verkehr Gruppe 1
DTSTART;TZID=Europe/Zurich:20260820T194500
DTEND;TZID=Europe/Zurich:20260820T214500
SUMMARY:Fahrtraining Verkehr Gruppe 1
URL:https://www.fw-mw.ch/uebungen/jahresprogramm-202/174-fahrtraining-verke
 hr-gruppe-1/728-fahrtraining-verkehr-gruppe-1
END:VEVENT
BEGIN:VEVENT
UID:20260822T090000CEST-7448Fv5u7A@https://fw-mw.ch/
DTSTAMP:20260423T084129Z
CATEGORIES:Veranstaltungen / Diverses
DTSTART;TZID=Europe/Zurich:20260822T000000
DTEND;TZID=Europe/Zurich:20260822T235959
SUMMARY:Atemschutz-Wettkampf
URL:https://www.fw-mw.ch/uebungen/jahresprogramm-202/179-veranstaltungen-di
 verses/729-atemschutz-wettkampf
END:VEVENT
BEGIN:VEVENT
UID:20260615T194500CEST-9411kTg0uJ@https://fw-mw.ch/
DTSTAMP:20260423T084129Z
CATEGORIES:Maschinisten
DTSTART;TZID=Europe/Zurich:20260824T194500
DTEND;TZID=Europe/Zurich:20260824T214500
SUMMARY:Maschinisten
URL:https://www.fw-mw.ch/uebungen/jahresprogramm-202/167-maschinisten/730-m
 aschinisten
END:VEVENT
BEGIN:VEVENT
UID:20260518T194500CEST-3798eEIa8U@https://fw-mw.ch/
DTSTAMP:20260423T084129Z
CATEGORIES:Holzergruppe
DTSTART;TZID=Europe/Zurich:20260825T194500
DTEND;TZID=Europe/Zurich:20260825T214500
SUMMARY:Holzergruppe
URL:https://www.fw-mw.ch/uebungen/jahresprogramm-202/183-holzergruppe/731-h
 olzergruppe
END:VEVENT
BEGIN:VEVENT
UID:20260528T194500CEST-88332L5U5V@https://fw-mw.ch/
DTSTAMP:20260423T084129Z
CATEGORIES:Fahrtraining Gruppe 3
DTSTART;TZID=Europe/Zurich:20260827T194500
DTEND;TZID=Europe/Zurich:20260827T214500
SUMMARY:Fahrtraining Gruppe 3
URL:https://www.fw-mw.ch/uebungen/jahresprogramm-202/173-fahrtraining-grupp
 e-3/732-fahrtraining-gruppe-3
END:VEVENT
BEGIN:VEVENT
UID:20260528T194500CEST-6287SV9RzO@https://fw-mw.ch/
DTSTAMP:20260423T084129Z
CATEGORIES:Fahrtraining Verkehr Gruppe 2
DTSTART;TZID=Europe/Zurich:20260827T194500
DTEND;TZID=Europe/Zurich:20260827T214500
SUMMARY:Fahrtraining Verkehr Gruppe 2
URL:https://www.fw-mw.ch/uebungen/jahresprogramm-202/175-fahrtraining-verke
 hr-gruppe-2/733-fahrtraining-verkehr-gruppe-2
END:VEVENT
BEGIN:VEVENT
UID:20260323T190000CET-04471evJW6@https://fw-mw.ch/
DTSTAMP:20260423T084129Z
CATEGORIES:Gesamte FW
DTSTART;TZID=Europe/Zurich:20260828T180000
DTEND;TZID=Europe/Zurich:20260828T214500
SUMMARY:Bevölkerungsübung
URL:https://www.fw-mw.ch/uebungen/jahresprogramm-202/159-gesamte-fw/694-ges
 amte-feuerwehr
END:VEVENT
BEGIN:VEVENT
UID:20260601T194500CEST-9378XWOorA@https://fw-mw.ch/
DTSTAMP:20260423T084129Z
CATEGORIES:Notfalltreffpunkte
DTSTART;TZID=Europe/Zurich:20260831T194500
DTEND;TZID=Europe/Zurich:20260831T214500
SUMMARY:Notfalltreffpunkte
URL:https://www.fw-mw.ch/uebungen/jahresprogramm-202/182-notfalltreffpunkte
 /734-notfalltreffpunkte
END:VEVENT
END:VCALENDAR
