BEGIN:VCALENDAR
VERSION:2.0
PRODID:-//https://www.fw-mw.ch//NONSGML kigkonsult.se iCalcreator 2.29.29//
CALSCALE:GREGORIAN
METHOD:PUBLISH
UID:56041bdb-1d2a-426e-859c-8bbdd43cb709
X-WR-CALNAME:JCal Pro Kalender
X-WR-CALDESC:Ihr Online-Terminkalender
X-WR-TIMEZONE:Europe/Zurich
BEGIN:VTIMEZONE
TZID:Europe/Zurich
BEGIN:STANDARD
TZNAME:CET
DTSTART:20251026T030000
TZOFFSETFROM:+0200
TZOFFSETTO:+0100
RDATE:20261025T030000
END:STANDARD
BEGIN:DAYLIGHT
TZNAME:CEST
DTSTART:20260329T020000
TZOFFSETFROM:+0100
TZOFFSETTO:+0200
RDATE:20270328T020000
END:DAYLIGHT
END:VTIMEZONE
BEGIN:VEVENT
UID:20260926T000000CEST-4606iSnMRr@https://fw-mw.ch/
DTSTAMP:20260420T031606Z
CATEGORIES:Schulferien/Feiertage
DTSTART;TZID=Europe/Zurich:20260926T000000
DTEND;TZID=Europe/Zurich:20261011T235900
SUMMARY:Herbstferien
URL:https://www.fw-mw.ch/uebungen/jahresprogramm-202/184-schulferien/750-he
 rbstferien
END:VEVENT
BEGIN:VEVENT
UID:20260824T194500CEST-3724xxnFNu@https://fw-mw.ch/
DTSTAMP:20260420T031606Z
CATEGORIES:Maschinisten
DTSTART;TZID=Europe/Zurich:20261012T194500
DTEND;TZID=Europe/Zurich:20261012T214500
SUMMARY:Maschinisten
URL:https://www.fw-mw.ch/uebungen/jahresprogramm-202/167-maschinisten/751-m
 aschinisten
END:VEVENT
BEGIN:VEVENT
UID:20251013T194500CEST-5804RBX03o@https://fw-mw.ch/
DTSTAMP:20260420T031606Z
CATEGORIES:Neueingeteilte
DTSTART;TZID=Europe/Zurich:20261012T194500
DTEND;TZID=Europe/Zurich:20261012T214500
SUMMARY:Neueingeteilte ausmessen
URL:https://www.fw-mw.ch/uebungen/jahresprogramm-202/178-neueingeteilte/752
 -neueingeteilte-ausmessen
END:VEVENT
BEGIN:VEVENT
UID:20260609T183000CEST-1863uubXvE@https://fw-mw.ch/
DTSTAMP:20260420T031606Z
CATEGORIES:Veranstaltungen / Diverses
DESCRIPTION:<p>Thema/Dienst: Vorstandssitzung <br />Übungsstoff: gm. Trakta
 ndenliste <br />Verantwortlich: Hptm Fuchs Reto <br />Aufgebot: -</p>
DTSTART;TZID=Europe/Zurich:20261013T183000
DTEND;TZID=Europe/Zurich:20261013T193000
SUMMARY:Vorstandssitzung
URL:https://www.fw-mw.ch/uebungen/jahresprogramm-202/179-veranstaltungen-di
 verses/779-vorstandssitzung-2
X-ALT-DESC;FMTTYPE=TEXT/HTML:<p>Thema/Dienst: Vorstandssitzung <br />Übungs
 stoff: gm. Traktandenliste <br />Verantwortlich: Hptm Fuchs Reto <br />Auf
 gebot: -</p>
END:VEVENT
BEGIN:VEVENT
UID:20260903T194500CEST-4095vjCeZ0@https://fw-mw.ch/
DTSTAMP:20260420T031606Z
CATEGORIES:Chargierte
DESCRIPTION:<p>Vorbereiten 1. Zugsübung</p>
DTSTART;TZID=Europe/Zurich:20261015T194500
DTEND;TZID=Europe/Zurich:20261015T214500
SUMMARY:Chargierte
URL:https://www.fw-mw.ch/uebungen/jahresprogramm-202/164-chargierte/753-cha
 rgierte
X-ALT-DESC;FMTTYPE=TEXT/HTML:<p>Vorbereiten 1. Zugsübung</p>
END:VEVENT
BEGIN:VEVENT
UID:20261016T190000CEST-0207S8UKLD@https://fw-mw.ch/
DTSTAMP:20260420T031606Z
CATEGORIES:Kommando
DTSTART;TZID=Europe/Zurich:20261016T190000
DTEND;TZID=Europe/Zurich:20261016T210000
SUMMARY:Inspektion
URL:https://www.fw-mw.ch/uebungen/jahresprogramm-202/176-kommando/775-inspe
 ktion
END:VEVENT
BEGIN:VEVENT
UID:20260914T194500CEST-0582Atu7R1@https://fw-mw.ch/
DTSTAMP:20260420T031606Z
CATEGORIES:Verkehr
DTSTART;TZID=Europe/Zurich:20261019T194500
DTEND;TZID=Europe/Zurich:20261019T214500
SUMMARY:Verkehr
URL:https://www.fw-mw.ch/uebungen/jahresprogramm-202/166-verkehr/754-verkeh
 r
END:VEVENT
BEGIN:VEVENT
UID:20260810T194500CEST-0096DJgslv@https://fw-mw.ch/
DTSTAMP:20260420T031606Z
CATEGORIES:Sanität
DTSTART;TZID=Europe/Zurich:20261019T194500
DTEND;TZID=Europe/Zurich:20261019T214500
SUMMARY:Sanität
URL:https://www.fw-mw.ch/uebungen/jahresprogramm-202/168-sanitaet/755-sanit
 aet
END:VEVENT
BEGIN:VEVENT
UID:20260810T194500CEST-7369DueAKU@https://fw-mw.ch/
DTSTAMP:20260420T031606Z
CATEGORIES:Elektriker
DTSTART;TZID=Europe/Zurich:20261019T194500
DTEND;TZID=Europe/Zurich:20261019T214500
SUMMARY:Elektriker
URL:https://www.fw-mw.ch/uebungen/jahresprogramm-202/169-elektriker/756-ele
 ktriker
END:VEVENT
BEGIN:VEVENT
UID:20260827T194500CEST-05895njBuM@https://fw-mw.ch/
DTSTAMP:20260420T031606Z
CATEGORIES:Fahrtraining Gruppe 3
DTSTART;TZID=Europe/Zurich:20261022T194500
DTEND;TZID=Europe/Zurich:20261022T214500
SUMMARY:Fahrtraining Gruppe 3
URL:https://www.fw-mw.ch/uebungen/jahresprogramm-202/173-fahrtraining-grupp
 e-3/757-fahrtraining-gruppe-3
END:VEVENT
BEGIN:VEVENT
UID:20261024T170000CEST-0849ZWPGoh@https://fw-mw.ch/
DTSTAMP:20260420T031606Z
CATEGORIES:Gesamte FW
DTSTART;TZID=Europe/Zurich:20261024T170000
DTEND;TZID=Europe/Zurich:20261025T000000
SUMMARY:Schlussrapport
URL:https://www.fw-mw.ch/uebungen/jahresprogramm-202/159-gesamte-fw/758-sch
 lussrapport
END:VEVENT
BEGIN:VEVENT
UID:20251110T000000CET-7464wnt5cr@https://fw-mw.ch/
DTSTAMP:20260420T031606Z
CATEGORIES:Veranstaltungen / Diverses
DTSTART;TZID=Europe/Zurich:20261026T194500
DTEND;TZID=Europe/Zurich:20261026T214500
SUMMARY:Austretende
URL:https://www.fw-mw.ch/uebungen/jahresprogramm-202/179-veranstaltungen-di
 verses/759-austretende
END:VEVENT
BEGIN:VEVENT
UID:20260922T191500CEST-60255HVmAh@https://fw-mw.ch/
DTSTAMP:20260420T031606Z
CATEGORIES:Absturzsicherung
DTSTART;TZID=Europe/Zurich:20261027T191500
DTEND;TZID=Europe/Zurich:20261027T214500
SUMMARY:Absturzsicherung
URL:https://www.fw-mw.ch/uebungen/jahresprogramm-202/170-absturzsicherung/7
 60-absturzsicherung
END:VEVENT
BEGIN:VEVENT
UID:20260910T194500CEST-8048UVFhv9@https://fw-mw.ch/
DTSTAMP:20260420T031606Z
CATEGORIES:Fahrtraining Gruppe 1
DTSTART;TZID=Europe/Zurich:20261029T194500
DTEND;TZID=Europe/Zurich:20261029T214500
SUMMARY:Fahrtraining Gruppe 1
URL:https://www.fw-mw.ch/uebungen/jahresprogramm-202/171-fahrtraining-grupp
 e-1/761-fahrtraining-gruppe-1
END:VEVENT
BEGIN:VEVENT
UID:20261031T080000CET-1832J5oPvU@https://fw-mw.ch/
DTSTAMP:20260420T031606Z
CATEGORIES:Gesamte FW
DTSTART;TZID=Europe/Zurich:20261031T080000
DTEND;TZID=Europe/Zurich:20261031T140000
SUMMARY:Putztag
URL:https://www.fw-mw.ch/uebungen/jahresprogramm-202/159-gesamte-fw/762-put
 ztag
END:VEVENT
END:VCALENDAR
