BEGIN:VCALENDAR
VERSION:2.0
PRODID:-//https://www.fw-mw.ch//NONSGML kigkonsult.se iCalcreator 2.29.29//
CALSCALE:GREGORIAN
METHOD:PUBLISH
UID:e9206abd-c80b-4dd7-aa21-2548fc381274
X-WR-CALNAME:JCal Pro Kalender
X-WR-CALDESC:Ihr Online-Terminkalender
X-WR-TIMEZONE:Europe/Zurich
BEGIN:VTIMEZONE
TZID:Europe/Zurich
BEGIN:STANDARD
TZNAME:CET
DTSTART:20251026T030000
TZOFFSETFROM:+0200
TZOFFSETTO:+0100
RDATE:20261025T030000
END:STANDARD
BEGIN:DAYLIGHT
TZNAME:CEST
DTSTART:20260329T020000
TZOFFSETFROM:+0100
TZOFFSETTO:+0200
RDATE:20270328T020000
END:DAYLIGHT
END:VTIMEZONE
BEGIN:VEVENT
UID:20260817T191500CEST-3455i5Jnpj@https://fw-mw.ch/
DTSTAMP:20260420T050241Z
CATEGORIES:Atemschutz
DTSTART;TZID=Europe/Zurich:20261102T191500
DTEND;TZID=Europe/Zurich:20261102T214500
SUMMARY:Atemschutz
URL:https://www.fw-mw.ch/uebungen/jahresprogramm-202/165-atemschutz/763-ate
 mschutz
END:VEVENT
BEGIN:VEVENT
UID:20260924T194500CEST-4871CglGuH@https://fw-mw.ch/
DTSTAMP:20260420T050241Z
CATEGORIES:Fahrtraining Gruppe 2
DTSTART;TZID=Europe/Zurich:20261105T194500
DTEND;TZID=Europe/Zurich:20261105T214500
SUMMARY:Fahrtraining Gruppe 2
URL:https://www.fw-mw.ch/uebungen/jahresprogramm-202/172-fahrtraining-grupp
 e-2/764-fahrtraining-gruppe-2
END:VEVENT
BEGIN:VEVENT
UID:20260820T194500CEST-71965FJtru@https://fw-mw.ch/
DTSTAMP:20260420T050241Z
CATEGORIES:Fahrtraining Verkehr Gruppe 1
DTSTART;TZID=Europe/Zurich:20261105T194500
DTEND;TZID=Europe/Zurich:20261105T214500
SUMMARY:Fahrtraining Verkehr Gruppe 1
URL:https://www.fw-mw.ch/uebungen/jahresprogramm-202/174-fahrtraining-verke
 hr-gruppe-1/765-fahrtraining-verkehr-gruppe-1
END:VEVENT
BEGIN:VEVENT
UID:20260831T194500CEST-4486EeERHp@https://fw-mw.ch/
DTSTAMP:20260420T050241Z
CATEGORIES:Notfalltreffpunkte
DTSTART;TZID=Europe/Zurich:20261109T194500
DTEND;TZID=Europe/Zurich:20261109T214500
SUMMARY:Notfalltreffpunkte
URL:https://www.fw-mw.ch/uebungen/jahresprogramm-202/182-notfalltreffpunkte
 /766-notfalltreffpunkte
END:VEVENT
BEGIN:VEVENT
UID:20261015T194500CEST-9606pDeBiW@https://fw-mw.ch/
DTSTAMP:20260420T050241Z
CATEGORIES:Chargierte
DESCRIPTION:<p>Vorbereiten 1. Zugsübung</p>
DTSTART;TZID=Europe/Zurich:20261112T194500
DTEND;TZID=Europe/Zurich:20261112T214500
SUMMARY:Chargierte
URL:https://www.fw-mw.ch/uebungen/jahresprogramm-202/164-chargierte/767-cha
 rgierte
X-ALT-DESC;FMTTYPE=TEXT/HTML:<p>Vorbereiten 1. Zugsübung</p>
END:VEVENT
BEGIN:VEVENT
UID:20261012T194500CEST-0706sjhhhi@https://fw-mw.ch/
DTSTAMP:20260420T050241Z
CATEGORIES:Maschinisten
DTSTART;TZID=Europe/Zurich:20261116T194500
DTEND;TZID=Europe/Zurich:20261116T214500
SUMMARY:Maschinisten
URL:https://www.fw-mw.ch/uebungen/jahresprogramm-202/167-maschinisten/768-m
 aschinisten
END:VEVENT
BEGIN:VEVENT
UID:20260921T194500CEST-5404wvBJ8k@https://fw-mw.ch/
DTSTAMP:20260420T050241Z
CATEGORIES:Kommando
DTSTART;TZID=Europe/Zurich:20261116T194500
DTEND;TZID=Europe/Zurich:20261116T214500
SUMMARY:Kommandositzung
URL:https://www.fw-mw.ch/uebungen/jahresprogramm-202/176-kommando/769-komma
 ndositzung
END:VEVENT
BEGIN:VEVENT
UID:20261022T194500CEST-4587Ff3U6A@https://fw-mw.ch/
DTSTAMP:20260420T050241Z
CATEGORIES:Fahrtraining Gruppe 3
DTSTART;TZID=Europe/Zurich:20261119T194500
DTEND;TZID=Europe/Zurich:20261119T214500
SUMMARY:Fahrtraining Gruppe 3
URL:https://www.fw-mw.ch/uebungen/jahresprogramm-202/173-fahrtraining-grupp
 e-3/770-fahrtraining-gruppe-3
END:VEVENT
BEGIN:VEVENT
UID:20260827T194500CEST-9284fAKEFz@https://fw-mw.ch/
DTSTAMP:20260420T050241Z
CATEGORIES:Fahrtraining Verkehr Gruppe 2
DTSTART;TZID=Europe/Zurich:20261119T194500
DTEND;TZID=Europe/Zurich:20261119T214500
SUMMARY:Fahrtraining Verkehr Gruppe 2
URL:https://www.fw-mw.ch/uebungen/jahresprogramm-202/175-fahrtraining-verke
 hr-gruppe-2/771-fahrtraining-verkehr-gruppe-2
END:VEVENT
BEGIN:VEVENT
UID:20261019T194500CEST-10060HpxvL@https://fw-mw.ch/
DTSTAMP:20260420T050241Z
CATEGORIES:Elektriker
DTSTART;TZID=Europe/Zurich:20261123T194500
DTEND;TZID=Europe/Zurich:20261123T214500
SUMMARY:Elektriker
URL:https://www.fw-mw.ch/uebungen/jahresprogramm-202/169-elektriker/772-ele
 ktriker
END:VEVENT
END:VCALENDAR
