BEGIN:VCALENDAR
VERSION:2.0
PRODID:-//https://www.fw-mw.ch//NONSGML kigkonsult.se iCalcreator 2.29.29//
CALSCALE:GREGORIAN
METHOD:PUBLISH
UID:5605d30a-eae5-4333-9cb6-36ecbd3d30d9
X-WR-CALNAME:JCal Pro Kalender
X-WR-CALDESC:Ihr Online-Terminkalender
X-WR-TIMEZONE:Europe/Zurich
BEGIN:VTIMEZONE
TZID:Europe/Zurich
BEGIN:STANDARD
TZNAME:CET
DTSTART:20251026T030000
TZOFFSETFROM:+0200
TZOFFSETTO:+0100
RDATE:20261025T030000
END:STANDARD
BEGIN:DAYLIGHT
TZNAME:CEST
DTSTART:20260329T020000
TZOFFSETFROM:+0100
TZOFFSETTO:+0200
RDATE:20270328T020000
END:DAYLIGHT
END:VTIMEZONE
BEGIN:VEVENT
UID:20260309T194500CET-30530CURxV@https://fw-mw.ch/
DTSTAMP:20260419T185646Z
CATEGORIES:Zug 2
DTSTART;TZID=Europe/Zurich:20260427T194500
DTEND;TZID=Europe/Zurich:20260427T214500
SUMMARY:Zug 2
URL:https://www.fw-mw.ch/uebungen/jahresprogramm-202/162-zug-2/686-zug-2
END:VEVENT
BEGIN:VEVENT
UID:20260209T194500CET-6355BJjVt3@https://fw-mw.ch/
DTSTAMP:20260419T185646Z
CATEGORIES:Verkehr
DTSTART;TZID=Europe/Zurich:20260427T194500
DTEND;TZID=Europe/Zurich:20260427T214500
SUMMARY:Verkehr
URL:https://www.fw-mw.ch/uebungen/jahresprogramm-202/166-verkehr/687-verkeh
 r
END:VEVENT
BEGIN:VEVENT
UID:20260330T194500CEST-4218nmVmz2@https://fw-mw.ch/
DTSTAMP:20260419T185646Z
CATEGORIES:Kommando
DTSTART;TZID=Europe/Zurich:20260428T194500
DTEND;TZID=Europe/Zurich:20260428T214500
SUMMARY:Kommandositzung
URL:https://www.fw-mw.ch/uebungen/jahresprogramm-202/176-kommando/688-komma
 ndositzung
END:VEVENT
BEGIN:VEVENT
UID:20260319T194500CET-7472R5SsjR@https://fw-mw.ch/
DTSTAMP:20260419T185646Z
CATEGORIES:Chargierte
DESCRIPTION:<p>Vorbereiten 1. Zugsübung</p>
DTSTART;TZID=Europe/Zurich:20260430T194500
DTEND;TZID=Europe/Zurich:20260430T214500
SUMMARY:Chargierte
URL:https://www.fw-mw.ch/uebungen/jahresprogramm-202/164-chargierte/689-cha
 rgierte
X-ALT-DESC;FMTTYPE=TEXT/HTML:<p>Vorbereiten 1. Zugsübung</p>
END:VEVENT
END:VCALENDAR
